Workbook
Name DateList: Calendar!$A$3:$A$44
Name FILENAME: 'Static Data'!$N$47
Name INVOICE: 'Static Data'!$N$45
Name TimeList: Calendar!$C$2:$C$60

Sheet Invoice
B2: Spencer Netball Club MONTHLY TIMESHEET
B4: Bank Account number: xxxxxxxx | E4: 00000000 | N4: Please complete all blue boxes
B5: Sort code: xx-xx-xx | E5: 00-00-00 | N5: Version 2.2
B6: Payee Name: | E6: Your Name | N6: Email all invoices to invoices@swnetball.co.uk
B7: Email Address: | E7: your.name@youremail.com
B9: Month Ending: | E9: January 2026 | N9: Note: PDF of invoices preferred
B10: Invoice Date: | E10: =TODAY() -> 46052
B11: Due Date: | E11: =EOMONTH(DATEVALUE("1 "&Invoice!E9),0)+5 -> 46058
B12: Invoice Reference: | E12: =INVOICE -> SN-2601YN43-300126
E14: Coaching | I14: Fixtures | K14: Expenses
B15: LINE ITEM | C15: CATEGORY Coaching, SJNL, Expenses | D15: EVENT DATE dd/mm/yyyy | E15: START TIME hh:mm | F15: FINISH TIME hh:mm | G15: HOURS | H15: HOURLY RATE | I15: FIXTURE DURATION 0.5 or 1 | J15: FIXTURE RATE | K15: EXPENSE | L15: Errors? Day & Hours & Expense | M15: SUB-TOTAL | N15: NOTES Note if umpiring or coaching or fixture / regular session here pls
O17: C | P17: F | Q17: E
B18: 1 | G18: =IF((F18-E18)>0,(F18-E18),"") | L18: =IF(OR(O18="Error", P18="Error", Q18="Error"), "Error", "") | M18: =IF(L18="Error", "Error", IF(C18="Coaching", G18*H18*24, IF(C18="Fixtures", I18*J18, IF(C18="Expenses", K18, "" ) ) ) ) | O18: =IF(OR(AND(C18="Coaching", G18>0, H18>0), AND(G18="", H18="")), "ok", "Error") -> ok | P18: =IF(OR(AND(C18="Fixtures", I18>0, J18>0), AND(I18="", J18="")), "ok", "Error") -> ok | Q18: =IF(OR(AND(C18="Expenses", K18>0, K18>0), AND(K18="", K18="")), "ok", "Error") -> ok
B19: 2 | G19: =IF((F19-E19)>0,(F19-E19),"") | L19: =IF(OR(O19="Error", P19="Error", Q19="Error"), "Error", "") | M19: =IF(L19="Error", "Error", IF(C19="Coaching", G19*H19*24, IF(C19="Fixtures", I19*J19, IF(C19="Expenses", K19, "" ) ) ) ) | O19: =IF(OR(AND(C19="Coaching", G19>0, H19>0), AND(G19="", H19="")), "ok", "Error") -> ok | P19: =IF(OR(AND(C19="Fixtures", I19>0, J19>0), AND(I19="", J19="")), "ok", "Error") -> ok | Q19: =IF(OR(AND(C19="Expenses", K19>0, K19>0), AND(K19="", K19="")), "ok", "Error") -> ok
B20: 3 | G20: =IF((F20-E20)>0,(F20-E20),"") | L20: =IF(OR(O20="Error", P20="Error", Q20="Error"), "Error", "") | M20: =IF(L20="Error", "Error", IF(C20="Coaching", G20*H20*24, IF(C20="Fixtures", I20*J20, IF(C20="Expenses", K20, "" ) ) ) ) | O20: =IF(OR(AND(C20="Coaching", G20>0, H20>0), AND(G20="", H20="")), "ok", "Error") -> ok | P20: =IF(OR(AND(C20="Fixtures", I20>0, J20>0), AND(I20="", J20="")), "ok", "Error") -> ok | Q20: =IF(OR(AND(C20="Expenses", K20>0, K20>0), AND(K20="", K20="")), "ok", "Error") -> ok
B21: 4 | G21: =IF((F21-E21)>0,(F21-E21),"") | L21: =IF(OR(O21="Error", P21="Error", Q21="Error"), "Error", "") | M21: =IF(L21="Error", "Error", IF(C21="Coaching", G21*H21*24, IF(C21="Fixtures", I21*J21, IF(C21="Expenses", K21, "" ) ) ) ) | O21: =IF(OR(AND(C21="Coaching", G21>0, H21>0), AND(G21="", H21="")), "ok", "Error") -> ok | P21: =IF(OR(AND(C21="Fixtures", I21>0, J21>0), AND(I21="", J21="")), "ok", "Error") -> ok | Q21: =IF(OR(AND(C21="Expenses", K21>0, K21>0), AND(K21="", K21="")), "ok", "Error") -> ok
B22: 5 | G22: =IF((F22-E22)>0,(F22-E22),"") | M22: =IF(L22="Error", "Error", IF(C22="Coaching", G22*H22*24, IF(C22="Fixtures", I22*J22, IF(C22="Expenses", K22, "" ) ) ) ) | O22: =IF(OR(AND(C22="Coaching", G22>0, H22>0), AND(G22="", H22="")), "ok", "Error") -> ok | P22: =IF(OR(AND(C22="Fixtures", I22>0, J22>0), AND(I22="", J22="")), "ok", "Error") -> ok | Q22: =IF(OR(AND(C22="Expenses", K22>0, K22>0), AND(K22="", K22="")), "ok", "Error") -> ok
B23: 6 | G23: =IF((F23-E23)>0,(F23-E23),"") | M23: =IF(L23="Error", "Error", IF(C23="Coaching", G23*H23*24, IF(C23="Fixtures", I23*J23, IF(C23="Expenses", K23, "" ) ) ) ) | O23: =IF(OR(AND(C23="Coaching", G23>0, H23>0), AND(G23="", H23="")), "ok", "Error") -> ok | P23: =IF(OR(AND(C23="Fixtures", I23>0, J23>0), AND(I23="", J23="")), "ok", "Error") -> ok | Q23: =IF(OR(AND(C23="Expenses", K23>0, K23>0), AND(K23="", K23="")), "ok", "Error") -> ok
B24: 7 | G24: =IF((F24-E24)>0,(F24-E24),"") | M24: =IF(L24="Error", "Error", IF(C24="Coaching", G24*H24*24, IF(C24="Fixtures", I24*J24, IF(C24="Expenses", K24, "" ) ) ) ) | O24: =IF(OR(AND(C24="Coaching", G24>0, H24>0), AND(G24="", H24="")), "ok", "Error") -> ok | P24: =IF(OR(AND(C24="Fixtures", I24>0, J24>0), AND(I24="", J24="")), "ok", "Error") -> ok | Q24: =IF(OR(AND(C24="Expenses", K24>0, K24>0), AND(K24="", K24="")), "ok", "Error") -> ok
B25: 8 | G25: =IF((F25-E25)>0,(F25-E25),"") | L25: =IF(OR(O25="Error", P25="Error", Q25="Error"), "Error", "") | M25: =IF(L25="Error", "Error", IF(C25="Coaching", G25*H25*24, IF(C25="Fixtures", I25*J25, IF(C25="Expenses", K25, "" ) ) ) ) | O25: =IF(OR(AND(C25="Coaching", G25>0, H25>0), AND(G25="", H25="")), "ok", "Error") -> ok | P25: =IF(OR(AND(C25="Fixtures", I25>0, J25>0), AND(I25="", J25="")), "ok", "Error") -> ok | Q25: =IF(OR(AND(C25="Expenses", K25>0, K25>0), AND(K25="", K25="")), "ok", "Error") -> ok
B26: 9 | G26: =IF((F26-E26)>0,(F26-E26),"") | L26: =IF(OR(O26="Error", P26="Error", Q26="Error"), "Error", "") | M26: =IF(L26="Error", "Error", IF(C26="Coaching", G26*H26*24, IF(C26="Fixtures", I26*J26, IF(C26="Expenses", K26, "" ) ) ) ) | O26: =IF(OR(AND(C26="Coaching", G26>0, H26>0), AND(G26="", H26="")), "ok", "Error") -> ok | P26: =IF(OR(AND(C26="Fixtures", I26>0, J26>0), AND(I26="", J26="")), "ok", "Error") -> ok | Q26: =IF(OR(AND(C26="Expenses", K26>0, K26>0), AND(K26="", K26="")), "ok", "Error") -> ok
B27: 10 | G27: =IF((F27-E27)>0,(F27-E27),"") | L27: =IF(OR(O27="Error", P27="Error", Q27="Error"), "Error", "") | M27: =IF(L27="Error", "Error", IF(C27="Coaching", G27*H27*24, IF(C27="Fixtures", I27*J27, IF(C27="Expenses", K27, "" ) ) ) ) | O27: =IF(OR(AND(C27="Coaching", G27>0, H27>0), AND(G27="", H27="")), "ok", "Error") -> ok | P27: =IF(OR(AND(C27="Fixtures", I27>0, J27>0), AND(I27="", J27="")), "ok", "Error") -> ok | Q27: =IF(OR(AND(C27="Expenses", K27>0, K27>0), AND(K27="", K27="")), "ok", "Error") -> ok
B28: 11 | G28: =IF((F28-E28)>0,(F28-E28),"") | L28: =IF(OR(O28="Error", P28="Error", Q28="Error"), "Error", "") | M28: =IF(L28="Error", "Error", IF(C28="Coaching", G28*H28*24, IF(C28="Fixtures", I28*J28, IF(C28="Expenses", K28, "" ) ) ) ) | O28: =IF(OR(AND(C28="Coaching", G28>0, H28>0), AND(G28="", H28="")), "ok", "Error") -> ok | P28: =IF(OR(AND(C28="Fixtures", I28>0, J28>0), AND(I28="", J28="")), "ok", "Error") -> ok | Q28: =IF(OR(AND(C28="Expenses", K28>0, K28>0), AND(K28="", K28="")), "ok", "Error") -> ok
B29: 12 | G29: =IF((F29-E29)>0,(F29-E29),"") | L29: =IF(OR(O29="Error", P29="Error", Q29="Error"), "Error", "") | M29: =IF(L29="Error", "Error", IF(C29="Coaching", G29*H29*24, IF(C29="Fixtures", I29*J29, IF(C29="Expenses", K29, "" ) ) ) ) | O29: =IF(OR(AND(C29="Coaching", G29>0, H29>0), AND(G29="", H29="")), "ok", "Error") -> ok | P29: =IF(OR(AND(C29="Fixtures", I29>0, J29>0), AND(I29="", J29="")), "ok", "Error") -> ok | Q29: =IF(OR(AND(C29="Expenses", K29>0, K29>0), AND(K29="", K29="")), "ok", "Error") -> ok
B30: 13 | G30: =IF((F30-E30)>0,(F30-E30),"") | L30: =IF(OR(O30="Error", P30="Error", Q30="Error"), "Error", "") | M30: =IF(L30="Error", "Error", IF(C30="Coaching", G30*H30*24, IF(C30="Fixtures", I30*J30, IF(C30="Expenses", K30, "" ) ) ) ) | O30: =IF(OR(AND(C30="Coaching", G30>0, H30>0), AND(G30="", H30="")), "ok", "Error") -> ok | P30: =IF(OR(AND(C30="Fixtures", I30>0, J30>0), AND(I30="", J30="")), "ok", "Error") -> ok | Q30: =IF(OR(AND(C30="Expenses", K30>0, K30>0), AND(K30="", K30="")), "ok", "Error") -> ok
B31: 14 | G31: =IF((F31-E31)>0,(F31-E31),"") | L31: =IF(OR(O31="Error", P31="Error", Q31="Error"), "Error", "") | M31: =IF(L31="Error", "Error", IF(C31="Coaching", G31*H31*24, IF(C31="Fixtures", I31*J31, IF(C31="Expenses", K31, "" ) ) ) ) | O31: =IF(OR(AND(C31="Coaching", G31>0, H31>0), AND(G31="", H31="")), "ok", "Error") -> ok | P31: =IF(OR(AND(C31="Fixtures", I31>0, J31>0), AND(I31="", J31="")), "ok", "Error") -> ok | Q31: =IF(OR(AND(C31="Expenses", K31>0, K31>0), AND(K31="", K31="")), "ok", "Error") -> ok
B32: 15 | G32: =IF((F32-E32)>0,(F32-E32),"") | L32: =IF(OR(O32="Error", P32="Error", Q32="Error"), "Error", "") | M32: =IF(L32="Error", "Error", IF(C32="Coaching", G32*H32*24, IF(C32="Fixtures", I32*J32, IF(C32="Expenses", K32, "" ) ) ) ) | O32: =IF(OR(AND(C32="Coaching", G32>0, H32>0), AND(G32="", H32="")), "ok", "Error") -> ok | P32: =IF(OR(AND(C32="Fixtures", I32>0, J32>0), AND(I32="", J32="")), "ok", "Error") -> ok | Q32: =IF(OR(AND(C32="Expenses", K32>0, K32>0), AND(K32="", K32="")), "ok", "Error") -> ok
B33: 16 | G33: =IF((F33-E33)>0,(F33-E33),"") | L33: =IF(OR(O33="Error", P33="Error", Q33="Error"), "Error", "") | M33: =IF(L33="Error", "Error", IF(C33="Coaching", G33*H33*24, IF(C33="Fixtures", I33*J33, IF(C33="Expenses", K33, "" ) ) ) ) | O33: =IF(OR(AND(C33="Coaching", G33>0, H33>0), AND(G33="", H33="")), "ok", "Error") -> ok | P33: =IF(OR(AND(C33="Fixtures", I33>0, J33>0), AND(I33="", J33="")), "ok", "Error") -> ok | Q33: =IF(OR(AND(C33="Expenses", K33>0, K33>0), AND(K33="", K33="")), "ok", "Error") -> ok
B34: 17 | G34: =IF((F34-E34)>0,(F34-E34),"") | L34: =IF(OR(O34="Error", P34="Error", Q34="Error"), "Error", "") | M34: =IF(L34="Error", "Error", IF(C34="Coaching", G34*H34*24, IF(C34="Fixtures", I34*J34, IF(C34="Expenses", K34, "" ) ) ) ) | O34: =IF(OR(AND(C34="Coaching", G34>0, H34>0), AND(G34="", H34="")), "ok", "Error") -> ok | P34: =IF(OR(AND(C34="Fixtures", I34>0, J34>0), AND(I34="", J34="")), "ok", "Error") -> ok | Q34: =IF(OR(AND(C34="Expenses", K34>0, K34>0), AND(K34="", K34="")), "ok", "Error") -> ok
B35: 18 | G35: =IF((F35-E35)>0,(F35-E35),"") | L35: =IF(OR(O35="Error", P35="Error", Q35="Error"), "Error", "") | M35: =IF(L35="Error", "Error", IF(C35="Coaching", G35*H35*24, IF(C35="Fixtures", I35*J35, IF(C35="Expenses", K35, "" ) ) ) ) | O35: =IF(OR(AND(C35="Coaching", G35>0, H35>0), AND(G35="", H35="")), "ok", "Error") -> ok | P35: =IF(OR(AND(C35="Fixtures", I35>0, J35>0), AND(I35="", J35="")), "ok", "Error") -> ok | Q35: =IF(OR(AND(C35="Expenses", K35>0, K35>0), AND(K35="", K35="")), "ok", "Error") -> ok
B36: 19 | G36: =IF((F36-E36)>0,(F36-E36),"") | L36: =IF(OR(O36="Error", P36="Error", Q36="Error"), "Error", "") | M36: =IF(L36="Error", "Error", IF(C36="Coaching", G36*H36*24, IF(C36="Fixtures", I36*J36, IF(C36="Expenses", K36, "" ) ) ) ) | O36: =IF(OR(AND(C36="Coaching", G36>0, H36>0), AND(G36="", H36="")), "ok", "Error") -> ok | P36: =IF(OR(AND(C36="Fixtures", I36>0, J36>0), AND(I36="", J36="")), "ok", "Error") -> ok | Q36: =IF(OR(AND(C36="Expenses", K36>0, K36>0), AND(K36="", K36="")), "ok", "Error") -> ok
... B42: 25 | G42: =IF((F42-E42)>0,(F42-E42),"") | L42: =IF(OR(O42="Error", P42="Error", Q42="Error"), "Error", "") | M42: =IF(L42="Error", "Error", IF(C42="Coaching", G42*H42*24, IF(C42="Fixtures", I42*J42, IF(C42="Expenses", K42, "" ) ) ) ) | O42: =IF(OR(AND(C42="Coaching", G42>0, H42>0), AND(G42="", H42="")), "ok", "Error") -> ok | P42: =IF(OR(AND(C42="Fixtures", I42>0, J42>0), AND(I42="", J42="")), "ok", "Error") -> ok | Q42: =IF(OR(AND(C42="Expenses", K42>0, K42>0), AND(K42="", K42="")), "ok", "Error") -> ok
G43: =SUM(G18:G42) -> 0 | I43: =SUM(I18:I42) -> 0 | K43: =SUM(K18:K42) -> 0 | L43: Total (No VAT) | M43: =SUM(M18:M42) -> 0 | N43: No VAT
B46: 320 - Training Sessions | D46: =SUMIFS($M$18:$M$42,$C$18:$C$42,'Static Data'!D7) -> 0
B47: 320 - Fixtures | D47: =SUMIFS($M$18:$M$42,$C$18:$C$42,'Static Data'!D8) -> 0
B48: 460 - Other | D48: =SUMIFS($M$18:$M$42,$C$18:$C$42,'Static Data'!D9) -> 0

Sheet Calendar
A1: {=_xlfn.SEQUENCE(61,1,TODAY(),-1)} -> 46052
A2: 46051 | C2: 0.33333333
A3: 46050 | C3: 0.34375
A4: 46049 | C4: 0.35416667
A5: 46048 | C5: 0.36458333
A6: 46047 | C6: 0.375
A7: 46046 | C7: 0.38541667
A8: 46045 | C8: 0.39583333
A9: 46044 | C9: 0.40625
A10: 46043 | C10: 0.41666667
A11: 46042 | C11: 0.42708333
A12: 46041 | C12: 0.4375
A13: 46040 | C13: 0.44791667
... A60: 45993 | C60: 0.9375
A61: 45992

Sheet Static Data
A1: 1 | B1: 2
A2: =N41 -> 00000000
D6: Categorisation | F6: Month Ending
B7: 0.5 | D7: Coaching | F7: January 2026 | G7: 2026-01 | H7: 2601
B8: 1 | D8: Fixtures | F8: February 2026 | G8: 2026-02 | H8: 2602
D9: Expenses | F9: March 2026 | G9: 2026-03 | H9: 2603
F10: April 2026 | G10: 2026-04 | H10: 2604
F11: May 2026 | G11: 2026-05 | H11: 2605
F12: June 2026 | G12: 2026-06 | H12: 2606
F13: July 2026 | G13: 2026-07 | H13: 2607
F14: August 2026 | G14: 2026-08 | H14: 2608
F15: September 2026 | G15: 2026-09 | H15: 2609
F16: October 2026 | G16: 2026-10 | H16: 2610
F17: November 2026 | G17: 2026-11 | H17: 2611
F18: December 2026 | G18: 2026-12 | H18: 2612
F19: January 2027 | G19: 2027-01 | H19: 2701
F20: February 2027 | G20: 2027-02 | H20: 2702
F21: March 2027 | G21: 2027-03 | H21: 2703
... F37: July 2028 | G37: 2028-07 | H37: 2807
F38: August 2028 | G38: 2028-08 | H38: 2808 | M38: Date | N38: =Invoice!E9 -> January 2026 | O38: =VLOOKUP(N38,$F$7:$H$42,3,FALSE) -> 2601
F39: September 2028 | G39: 2028-09 | H39: 2809 | M39: Name | N39: =Invoice!E6 -> Your Name | O39: =IFERROR(UPPER(LEFT(N39,"1")),"Error") -> Y | P39: =IFERROR(UPPER(MID(N39,Q39+1,1)),"") -> N | Q39: =IFERROR(FIND(" ",N39),1) -> 5
F40: October 2028 | G40: 2028-10 | H40: 2810
F41: November 2028 | G41: 2028-11 | H41: 2811 | M41: Account number: | N41: =Invoice!E4 -> 00000000
F42: December 2028 | G42: 2028-12 | H42: 2812 | M42: Sort code: | N42: =Invoice!E5 -> 00-00-00
M43: checksum | N43: =ROUNDDOWN((CODE(A2)*LEN(A2)+CODE(MID(A2,1,2))*LEN(MID(A2,1,1)))/10,0) -> 43
M44: Today | N44: =TODAY() -> 46052 | O44: =TEXT(N44,"DDMMYY") -> 300126
M45: Invoice | N45: =_xlfn.CONCAT(N48,"-",O38,"",O39,P39,N43,"-",O44) -> SN-2601YN43-300126
N46: =LEN(INVOICE) -> 18
M47: Club | N47: Spencer Netball Club
M48: TLA | N48: SN
